Workbook
Name cisloobjektu: 'Krycí list'!$A$4
Name cislostavby: 'Krycí list'!$A$6
Name Datum: 'Krycí list'!$B$26
Name Dil: Rekapitulace!$A$6
Name Dodavka: Rekapitulace!$G$25
Name Dodavka0: Položky!#REF!
Name HSV: Rekapitulace!$E$25
Name HSV0: Položky!#REF!
Name HZS: Rekapitulace!$I$25
Name HZS0: Položky!#REF!
Name JKSO: 'Krycí list'!$F$4
Name MJ: 'Krycí list'!$G$4
Name Mont: Rekapitulace!$H$25
Name Montaz0: Položky!#REF!
Name NazevDilu: Rekapitulace!$B$6
Name nazevobjektu: 'Krycí list'!$C$4
Name nazevstavby: 'Krycí list'!$C$6
Name Objednatel: 'Krycí list'!$C$8
Name PocetMJ: 'Krycí list'!$G$7
Name Poznamka: 'Krycí list'!$B$37
Name Projektant: 'Krycí list'!$C$7
Name PSV: Rekapitulace!$F$25
Name PSV0: Položky!#REF!
Name SloupecCC: Položky!$G$6
Name SloupecCisloPol: Položky!$B$6
Name SloupecJC: Položky!$F$6
Name SloupecMJ: Položky!$D$6
Name SloupecMnozstvi: Položky!$E$6
Name SloupecNazPol: Položky!$C$6
Name SloupecPC: Položky!$A$6
Name Typ: Položky!#REF!
Name VRN: Rekapitulace!$H$31
Name VRNKc: Rekapitulace!$E$30
Name VRNnazev: Rekapitulace!$A$30
Name VRNproc: Rekapitulace!$F$30
Name VRNzakl: Rekapitulace!$G$30
Name Zakazka: 'Krycí list'!$G$9
Name Zaklad22: 'Krycí list'!$F$32
Name Zaklad5: 'Krycí list'!$F$30
Name Zhotovitel: 'Krycí list'!$E$11

Sheet Krycí list
A1: KRYCÍ LIST ROZPOČTU
A3: Objekt : | C3: Název objektu : | F3: JKSO :
A5: Stavba : | C5: Název stavby : | F5: SKP :
C6: čši brno - kanceláře
A7: Projektant : | E7: Počet měrných jednotek : | G7: 0
A8: Objednatel : | E8: Náklady na MJ : | G8: =IF(PocetMJ=0,,ROUND((F30+F32)/PocetMJ,1)) -> 0
A9: Počet listů : | E9: Zakázkové číslo :
A10: Zpracovatel projektu : | E10: Zhotovitel :
A12: ROZPOČTOVÉ NÁKLADY
A13: Rozpočtové náklady II. a III. hlavy | D13: Vedlejší rozpočtové náklady
B14: Dodávka celkem | C14: =Dodavka -> 0
A15: Z | B15: Montáž celkem | C15: =Mont -> 0
A16: R | B16: HSV celkem | C16: =HSV -> 0
A17: N | B17: PSV celkem | C17: =PSV -> 0
A18: ZRN celkem | C18: =SUM(C14:C17) -> 0
A20: HZS | C20: =HZS -> 0
A21: RN II.a III.hlavy | C21: =C18+C20 -> 0 | D21: Ostatní VRN | G21: =G22-SUM(G14:G20) -> 0
A22: ZRN+VRN+HZS | C22: =C21+G22 -> 0 | D22: VRN celkem | G22: =VRN -> 0
A23: Vypracoval | C23: Za zhotovitele | E23: Za objednatele
C24: Jméno : | E24: Jméno :
A25: Datum : | C25: Datum : | E25: Datum :
C26: Podpis: | E26: Podpis :
A29: Základ pro DPH | C29: 0 | D29: % činí :
A30: Základ pro DPH | C30: 10 | D30: % činí : | F30: 0
A31: DPH | C31: 10 | D31: % činí : | F31: =ROUND(PRODUCT(F30,C31/100),1) -> 0
A32: Základ pro DPH | C32: 20 | D32: % činí : | F32: =SUM(C22) -> 0
A33: DPH | C33: 20 | D33: % činí : | F33: =ROUND(PRODUCT(F32,C33/100),1) -> 0
A34: CENA ZA OBJEKT CELKEM | F34: =CEILING(SUM(F29:F33),IF(SUM(F29:F33)>=0,1,-1)) -> 0
A36: Poznámka :

Sheet Rekapitulace
A1: Stavba : | C1: =CONCATENATE(cislostavby," ",nazevstavby) -> čši brno - kanceláře
A2: Objekt : | C2: =CONCATENATE(cisloobjektu," ",nazevobjektu)
A4: REKAPITULACE STAVEBNÍCH DÍLŮ
B6: Stavební díl | E6: HSV | F6: PSV | G6: Dodávka | H6: Montáž | I6: HZS
A7: =Položky!B7 -> 3 | B7: =Položky!C7 -> Svislé a kompletní konstrukce | E7: =Položky!BA15 -> 0 | F7: =Položky!BB15 -> 0 | G7: =Položky!BC15 -> 0 | H7: =Položky!BD15 -> 0 | I7: =Položky!BE15 -> 0
A8: =Položky!B16 -> 61 | B8: =Položky!C16 -> Upravy povrchů vnitřní | E8: =Položky!BA18 -> 0 | F8: =Položky!BB18 -> 0 | G8: =Položky!BC18 -> 0 | H8: =Položky!BD18 -> 0 | I8: =Položky!BE18 -> 0
A9: =Položky!B19 -> 63 | B9: =Položky!C19 -> Podlahy a podlahové konstrukce | E9: =Položky!BA21 -> 0 | F9: =Položky!BB21 -> 0 | G9: =Položky!BC21 -> 0 | H9: =Položky!BD21 -> 0 | I9: =Položky!BE21 -> 0
A10: =Položky!B22 -> 64 | B10: =Položky!C22 -> Výplně otvorů | E10: =SUM(Položky!G31) -> 0 | F10: =Položky!BB31 -> 0 | G10: =Položky!BC31 -> 0 | H10: =Položky!BD31 -> 0 | I10: =Položky!BE31 -> 0
A11: =Položky!B32 -> 96 | B11: =Položky!C32 -> Bourání konstrukcí | E11: =Položky!BA45 -> 0 | F11: =Položky!BB45 -> 0 | G11: =Položky!BC45 -> 0 | H11: =Položky!BD45 -> 0 | I11: =Položky!BE45 -> 0
A12: =Položky!B46 -> 97 | B12: =Položky!C46 -> Prorážení otvorů | E12: =Položky!BA57 -> 0 | F12: =Položky!BB57 -> 0 | G12: =Položky!BC57 -> 0 | H12: =Položky!BD57 -> 0 | I12: =Položky!BE57 -> 0
A13: =Položky!B58 -> 711 | B13: =Položky!C58 -> Izolace proti vodě | E13: =Položky!BA61 -> 0 | F13: =Položky!BB61 -> 0 | G13: =Položky!BC61 -> 0 | H13: =Položky!BD61 -> 0 | I13: =Položky!BE61 -> 0
A14: =Položky!B62 -> 713 | B14: =Položky!C62 -> Izolace tepelné | E14: =Položky!BA67 -> 0 | F14: =Položky!BB67 -> 0 | G14: =Položky!BC67 -> 0 | H14: =Položky!BD67 -> 0 | I14: =Položky!BE67 -> 0
A15: =Položky!B68 -> 721 | B15: =Položky!C68 -> Vnitřní kanalizace | E15: =Položky!BA75 -> 0 | F15: =Položky!BB75 -> 0 | G15: =Položky!BC75 -> 0 | H15: =Položky!BD75 -> 0 | I15: =Položky!BE75 -> 0
A16: =Položky!B76 -> 722 | B16: =Položky!C76 -> Vnitřní vodovod | E16: =Položky!BA82 -> 0 | F16: =Položky!BB82 -> 0 | G16: =Položky!BC82 -> 0 | H16: =Položky!BD82 -> 0 | I16: =Položky!BE82 -> 0
A17: =Položky!B83 -> 724 | B17: =Položky!C83 -> VZT A VYT | E17: =Položky!BA95 -> 0 | F17: =SUM(Položky!G95) -> 0 | G17: =Položky!BC95 -> 0 | H17: =Položky!BD95 -> 0 | I17: =Položky!BE95 -> 0
A18: =Položky!B96 -> 725 | B18: =Položky!C96 -> Zařizovací předměty | E18: =Položky!BA113 -> 0 | F18: =SUM(Položky!G113) -> 0 | G18: =Položky!BC113 -> 0 | H18: =Položky!BD113 -> 0 | I18: =Položky!BE113 -> 0
A19: =Položky!B114 -> 771 | B19: =Položky!C114 -> Podlahy z dlaždic a obklady | E19: =Položky!BA120 -> 0 | F19: =Položky!BB120 -> 0 | G19: =Položky!BC120 -> 0 | H19: =Položky!BD120 -> 0 | I19: =Položky!BE120 -> 0
A20: =Položky!B121 -> 775 | B20: =Položky!C121 -> Podlahy vlysové a parketové | E20: =Položky!BA124 -> 0 | F20: =Položky!BB124 -> 0 | G20: =Položky!BC124 -> 0 | H20: =Položky!BD124 -> 0 | I20: =Položky!BE124 -> 0
A21: =Položky!B125 -> 781 | B21: =Položky!C125 -> Obklady keramické | E21: =Položky!BA132 -> 0 | F21: =Položky!BB132 -> 0 | G21: =Položky!BC132 -> 0 | H21: =Položky!BD132 -> 0 | I21: =Položky!BE132 -> 0
A22: =Položky!B133 -> 783 | B22: =Položky!C133 -> Nátěry | E22: =Položky!BA135 -> 0 | F22: =Položky!BB135 -> 0 | G22: =Položky!BC135 -> 0 | H22: =Položky!BD135 -> 0 | I22: =Položky!BE135 -> 0
A23: =Položky!B136 -> 784 | B23: =Položky!C136 -> Malby | E23: =Položky!BA139 -> 0 | F23: =Položky!BB139 -> 0 | G23: =Položky!BC139 -> 0 | H23: =Položky!BD139 -> 0 | I23: =Položky!BE139 -> 0
A24: =Položky!B140 -> M21 | B24: =Položky!C140 -> Elektromontáže | E24: =Položky!BA142 -> 0 | F24: =SUM(Položky!G142) -> 0 | G24: =Položky!BC142 -> 0 | H24: =Položky!BD142 -> 0 | I24: =Položky!BE142 -> 0
B25: CELKEM OBJEKT | E25: =SUM(E7:E24) -> 0 | F25: =SUM(F7:F24) -> 0 | G25: =SUM(G7:G24) -> 0 | H25: =SUM(H7:H24) -> 0 | I25: =SUM(I7:I24) -> 0
A27: VEDLEJŠÍ ROZPOČTOVÉ NÁKLADY
A29: Název VRN | E29: Kč | F29: % | G29: Základna | I29: Kč
G30: =CHOOSE(BA30+1,HSV+PSV,HSV+PSV+Mont,HSV+PSV+Dodavka+Mont,HSV,PSV,Mont,Dodavka,Mont+Dodavka,0) -> 0 | I30: =E30+F30*G30/100 -> 0 | BA30: 8
B31: CELKEM VRN | H31: =SUM(H30:H30) -> 0

Sheet Položky
A1: Položkový rozpočet
A3: Stavba : | C3: =CONCATENATE(cislostavby," ",nazevstavby) -> čši brno - kanceláře | F3: =Rekapitulace!H1 -> 0
A4: Objekt : | C4: =CONCATENATE(cisloobjektu," ",nazevobjektu)
A6: P.č. | B6: Číslo položky | C6: Název položky | D6: MJ | E6: množství | F6: cena / MJ | G6: celkem (Kč)
A7: Díl: | B7: 3 | C7: Svislé a kompletní konstrukce | O7: 1
A8: 1 | B8: 317 94-1121.R00 | C8: Osazení ocelových válcovaných nosníků do č.12 | D8: t | E8: 0.26 | G8: =E8*F8 -> 0 | O8: 2 | AA8: 12 | AB8: 0 | AC8: 1 | AZ8: 1 | BA8: =IF(AZ8=1,G8,0) -> 0 | BB8: =IF(AZ8=2,G8,0) -> 0 | BC8: =IF(AZ8=3,G8,0) -> 0 | BD8: =IF(AZ8=4,G8,0) -> 0 | BE8: =IF(AZ8=5,G8,0) -> 0 | CZ8: 0.01954
C9: nosník I180 | D9: t | E9: 0.26
A10: 2 | B10: 319 20-1317.R00 | C10: Vyrovnání zdiva pod omítku maltou ze SMS tl. 30 mm | D10: m2 | E10: 42 | G10: =E10*F10 -> 0 | O10: 2 | AA10: 12 | AB10: 0 | AC10: 2 | AZ10: 1 | BA10: =IF(AZ10=1,G10,0) -> 0 | BB10: =IF(AZ10=2,G10,0) -> 0 | BC10: =IF(AZ10=3,G10,0) -> 0 | BD10: =IF(AZ10=4,G10,0) -> 0 | BE10: =IF(AZ10=5,G10,0) -> 0 | CZ10: 0.02375
A11: 3 | B11: 342 26-2111.RT1 | C11: Příčka sádrokart. dvoj. oc. kce, 2x opl. tl.155 mm desky standard tl. 12,5 mm, izolace Orsil tl. 5 cm | D11: m2 | E11: 65 | G11: =E11*F11 -> 0 | O11: 2 | AA11: 12 | AB11: 0 | AC11: 3 | AZ11: 1 | BA11: =IF(AZ11=1,G11,0) -> 0 | BB11: =IF(AZ11=2,G11,0) -> 0 | BC11: =IF(AZ11=3,G11,0) -> 0 | BD11: =IF(AZ11=4,G11,0) -> 0 | BE11: =IF(AZ11=5,G11,0) -> 0 | CZ11: 0.05211
A12: 4 | B12: 342 26-3310.RT2 | C12: Úprava sádrokartonové příčky pro osazení umývadla do ocelové konstrukce, typ 0.50.10 | D12: kus | E12: 2 | G12: =E12*F12 -> 0 | O12: 2 | AA12: 12 | AB12: 0 | AC12: 4 | AZ12: 1 | BA12: =IF(AZ12=1,G12,0) -> 0 | BB12: =IF(AZ12=2,G12,0) -> 0 | BC12: =IF(AZ12=3,G12,0) -> 0 | BD12: =IF(AZ12=4,G12,0) -> 0 | BE12: =IF(AZ12=5,G12,0) -> 0 | CZ12: 0.0085
A13: 5 | B13: 342 26-4051.RT4 | C13: Podhled sádrokartonový na zavěšenou ocel. konstr. desky požár. impreg. tl. 12,5 mm, bez izolace | D13: m2 | E13: 45 | G13: =E13*F13 -> 0 | O13: 2 | AA13: 12 | AB13: 0 | AC13: 5 | AZ13: 1 | BA13: =IF(AZ13=1,G13,0) -> 0 | BB13: =IF(AZ13=2,G13,0) -> 0 | BC13: =IF(AZ13=3,G13,0) -> 0 | BD13: =IF(AZ13=4,G13,0) -> 0 | BE13: =IF(AZ13=5,G13,0) -> 0 | CZ13: 0.02017
A14: 6 | B14: 346 24-4361.R00 | C14: Zazdívka rýh, potrubí, kapes cihlami tl. 6,5 cm | D14: m2 | E14: 16 | G14: =E14*F14 -> 0 | O14: 2 | AA14: 12 | AB14: 0 | AC14: 6 | AZ14: 1 | BA14: =IF(AZ14=1,G14,0) -> 0 | BB14: =IF(AZ14=2,G14,0) -> 0 | BC14: =IF(AZ14=3,G14,0) -> 0 | BD14: =IF(AZ14=4,G14,0) -> 0 | BE14: =IF(AZ14=5,G14,0) -> 0 | CZ14: 0.13488
B15: Celkem za | C15: =CONCATENATE(B7," ",C7) -> 3 Svislé a kompletní konstrukce | G15: =SUM(G8:G14) -> 0 | O15: 4 | BA15: =SUM(BA7:BA14) -> 0 | BB15: =SUM(BB7:BB14) -> 0 | BC15: =SUM(BC7:BC14) -> 0 | BD15: =SUM(BD7:BD14) -> 0 | BE15: =SUM(BE7:BE14) -> 0
A16: Díl: | B16: 61 | C16: Upravy povrchů vnitřní | O16: 1
A17: 8 | B17: 611 42-1133.R00 | C17: Omítka vnitřní stropů rovných, MVC, štuková | D17: m2 | E17: 15 | G17: =E17*F17 -> 0 | O17: 2 | AA17: 12 | AB17: 0 | AC17: 8 | AZ17: 1 | BA17: =IF(AZ17=1,G17,0) -> 0 | BB17: =IF(AZ17=2,G17,0) -> 0 | BC17: =IF(AZ17=3,G17,0) -> 0 | BD17: =IF(AZ17=4,G17,0) -> 0 | BE17: =IF(AZ17=5,G17,0) -> 0 | CZ17: 0.05123
B18: Celkem za | C18: =CONCATENATE(B16," ",C16) -> 61 Upravy povrchů vnitřní | G18: =SUM(G16:G17) -> 0 | O18: 4 | BA18: =SUM(BA16:BA17) -> 0 | BB18: =SUM(BB16:BB17) -> 0 | BC18: =SUM(BC16:BC17) -> 0 | BD18: =SUM(BD16:BD17) -> 0 | BE18: =SUM(BE16:BE17) -> 0
A19: Díl: | B19: 63 | C19: Podlahy a podlahové konstrukce | O19: 1
A20: 9 | B20: 631 31-2411.RT3 | C20: Mazanina betonová tl. 5 - 8 cm C 8/10 (B 10) vyztužená ocelovými vlákny 25 kg / m3 | D20: m3 | E20: 4.8 | G20: =E20*F20 -> 0 | O20: 2 | AA20: 12 | AB20: 0 | AC20: 9 | AZ20: 1 | BA20: =IF(AZ20=1,G20,0) -> 0 | BB20: =IF(AZ20=2,G20,0) -> 0 | BC20: =IF(AZ20=3,G20,0) -> 0 | BD20: =IF(AZ20=4,G20,0) -> 0 | BE20: =IF(AZ20=5,G20,0) -> 0 | CZ20: 2.53485
B21: Celkem za | C21: =CONCATENATE(B19," ",C19) -> 63 Podlahy a podlahové konstrukce | G21: =SUM(G20) -> 0 | O21: 4 | BA21: =SUM(BA19:BA20) -> 0 | BB21: =SUM(BB19:BB20) -> 0 | BC21: =SUM(BC19:BC20) -> 0 | BD21: =SUM(BD19:BD20) -> 0 | BE21: =SUM(BE19:BE20) -> 0
A22: Díl: | B22: 64 | C22: Výplně otvorů | O22: 1
A23: 10 | B23: 642 94-2111.R00 | C23: Osazení zárubní dveřních ocelových, pl. do 2,5 m2 | D23: kus | E23: 7 | G23: =E23*F23 -> 0 | O23: 2 | AA23: 12 | AB23: 0 | AC23: 10 | AZ23: 1 | BA23: =IF(AZ23=1,G23,0) -> 0 | BB23: =IF(AZ23=2,G23,0) -> 0 | BC23: =IF(AZ23=3,G23,0) -> 0 | BD23: =IF(AZ23=4,G23,0) -> 0 | BE23: =IF(AZ23=5,G23,0) -> 0 | CZ23: 0.01891
A24: 11 | B24: 648 95-2421.R00 | C24: Osazení parapetních desek dřevěných š. do 50 cm | D24: m | E24: 6 | G24: =E24*F24 -> 0 | O24: 2 | AA24: 12 | AB24: 0 | AC24: 11 | AZ24: 1 | BA24: =IF(AZ24=1,G24,0) -> 0 | BB24: =IF(AZ24=2,G24,0) -> 0 | BC24: =IF(AZ24=3,G24,0) -> 0 | BD24: =IF(AZ24=4,G24,0) -> 0 | BE24: =IF(AZ24=5,G24,0) -> 0 | CZ24: 0.00901
C25: okno plast 1,2x2,4 vč. oplechování | D25: ks | E25: 2 | G25: =E25*F25 -> 0
A26: 12 | B26: 1 | C26: parapet dřevěný | D26: bm | E26: 6 | G26: =E26*F26 -> 0 | O26: 2 | AA26: 12 | AB26: 0 | AC26: 12 | AZ26: 1 | BA26: =IF(AZ26=1,G26,0) -> 0 | BB26: =IF(AZ26=2,G26,0) -> 0 | BC26: =IF(AZ26=3,G26,0) -> 0 | BD26: =IF(AZ26=4,G26,0) -> 0 | BE26: =IF(AZ26=5,G26,0) -> 0 | CZ26: 0
A27: 13 | B27: 2 | C27: zárubeň ocelová | D27: ks | E27: 7 | G27: =E27*F27 -> 0 | O27: 2 | AA27: 12 | AB27: 0 | AC27: 13 | AZ27: 1 | BA27: =IF(AZ27=1,G27,0) -> 0 | BB27: =IF(AZ27=2,G27,0) -> 0 | BC27: =IF(AZ27=3,G27,0) -> 0 | BD27: =IF(AZ27=4,G27,0) -> 0 | BE27: =IF(AZ27=5,G27,0) -> 0 | CZ27: 0
A28: 14 | B28: 642 94-2213.R00 | C28: Osazení zárubně do sádrokarton. příčky tl. 125 mm | D28: kus | E28: 2 | G28: =E28*F28 -> 0 | O28: 2 | AA28: 12 | AB28: 0 | AC28: 14 | AZ28: 1 | BA28: =IF(AZ28=1,G28,0) -> 0 | BB28: =IF(AZ28=2,G28,0) -> 0 | BC28: =IF(AZ28=3,G28,0) -> 0 | BD28: =IF(AZ28=4,G28,0) -> 0 | BE28: =IF(AZ28=5,G28,0) -> 0 | CZ28: 0.00292
A29: 15 | B29: 642 94-0016.RAC | C29: Dveře jednokřídlové 90/197, překlad, zárubeň, práh dřevěné vchodové palubkové+klika+zámek | D29: kus | E29: 1 | G29: =E29*F29 -> 0 | O29: 2 | AA29: 12 | AB29: 0 | AC29: 15 | AZ29: 1 | BA29: =IF(AZ29=1,G29,0) -> 0 | BB29: =IF(AZ29=2,G29,0) -> 0 | BC29: =IF(AZ29=3,G29,0) -> 0 | BD29: =IF(AZ29=4,G29,0) -> 0 | BE29: =IF(AZ29=5,G29,0) -> 0 | CZ29: 0.17822
A30: 16 | B30: 642 94-0010.RAA | C30: Dveře jednokřídlové 60,70,80/197, překlad, zárubeň, práh dřevěné hladké plné+klika+zámek | D30: kus | E30: 6 | G30: =E30*F30 -> 0 | O30: 2 | AA30: 12 | AB30: 0 | AC30: 16 | AZ30: 1 | BA30: =IF(AZ30=1,G30,0) -> 0 | BB30: =IF(AZ30=2,G30,0) -> 0 | BC30: =IF(AZ30=3,G30,0) -> 0 | BD30: =IF(AZ30=4,G30,0) -> 0 | BE30: =IF(AZ30=5,G30,0) -> 0 | CZ30: 0.16077
B31: Celkem za | C31: =CONCATENATE(B22," ",C22) -> 64 Výplně otvorů | G31: =SUM(G23:G30) -> 0 | O31: 4 | BA31: =SUM(BA22:BA30) -> 0 | BB31: =SUM(BB22:BB30) -> 0 | BC31: =SUM(BC22:BC30) -> 0 | BD31: =SUM(BD22:BD30) -> 0 | BE31: =SUM(BE22:BE30) -> 0
A32: Díl: | B32: 96 | C32: Bourání konstrukcí | O32: 1
A33: 17 | B33: 962 03-1133.R00 | C33: Bourání příček cihelných tl. 15 cm | D33: m2 | E33: 2 | G33: =E33*F33 -> 0 | O33: 2 | AA33: 12 | AB33: 0 | AC33: 17 | AZ33: 1 | BA33: =IF(AZ33=1,G33,0) -> 0 | BB33: =IF(AZ33=2,G33,0) -> 0 | BC33: =IF(AZ33=3,G33,0) -> 0 | BD33: =IF(AZ33=4,G33,0) -> 0 | BE33: =IF(AZ33=5,G33,0) -> 0 | CZ33: 0.00067
A34: 18 | B34: 963 01-2510.R00 | C34: Bourání stropů z desek žb. š. 30 cm, tl. do 14 cm | D34: m3 | E34: 1.2 | G34: =E34*F34 -> 0 | O34: 2 | AA34: 12 | AB34: 0 | AC34: 18 | AZ34: 1 | BA34: =IF(AZ34=1,G34,0) -> 0 | BB34: =IF(AZ34=2,G34,0) -> 0 | BC34: =IF(AZ34=3,G34,0) -> 0 | BD34: =IF(AZ34=4,G34,0) -> 0 | BE34: =IF(AZ34=5,G34,0) -> 0 | CZ34: 0.00741
A35: 19 | B35: 964 01-1211.R00 | C35: Vybourání ŽB překladů prefa dl. 3 m, 50 kg/m | D35: m3 | E35: 1.2 | G35: =E35*F35 -> 0 | O35: 2 | AA35: 12 | AB35: 0 | AC35: 19 | AZ35: 1 | BA35: =IF(AZ35=1,G35,0) -> 0 | BB35: =IF(AZ35=2,G35,0) -> 0 | BC35: =IF(AZ35=3,G35,0) -> 0 | BD35: =IF(AZ35=4,G35,0) -> 0 | BE35: =IF(AZ35=5,G35,0) -> 0 | CZ35: 0.01799
A36: 20 | B36: 965 08-2932.R00 | C36: Odstranění násypu tl. do 20 cm, plocha do 2 m2 | D36: m3 | E36: 12 | G36: =E36*F36 -> 0 | O36: 2 | AA36: 12 | AB36: 0 | AC36: 20 | AZ36: 1 | BA36: =IF(AZ36=1,G36,0) -> 0 | BB36: =IF(AZ36=2,G36,0) -> 0 | BC36: =IF(AZ36=3,G36,0) -> 0 | BD36: =IF(AZ36=4,G36,0) -> 0 | BE36: =IF(AZ36=5,G36,0) -> 0 | CZ36: 0
A37: 21 | B37: 965 04-2141.R00 | C37: Bourání mazanin betonových tl. 10 cm, nad 4 m2 | D37: m3 | E37: 6 | G37: =E37*F37 -> 0 | O37: 2 | AA37: 12 | AB37: 0 | AC37: 21 | AZ37: 1 | BA37: =IF(AZ37=1,G37,0) -> 0 | BB37: =IF(AZ37=2,G37,0) -> 0 | BC37: =IF(AZ37=3,G37,0) -> 0 | BD37: =IF(AZ37=4,G37,0) -> 0 | BE37: =IF(AZ37=5,G37,0) -> 0 | CZ37: 0
A38: 22 | B38: 962 03-2241.R00 | C38: Bourání zdiva z cihel pálených na MC | D38: m3 | E38: 3.8 | G38: =E38*F38 -> 0 | O38: 2 | AA38: 12 | AB38: 0 | AC38: 22 | AZ38: 1 | BA38: =IF(AZ38=1,G38,0) -> 0 | BB38: =IF(AZ38=2,G38,0) -> 0 | BC38: =IF(AZ38=3,G38,0) -> 0 | BD38: =IF(AZ38=4,G38,0) -> 0 | BE38: =IF(AZ38=5,G38,0) -> 0 | CZ38: 0.00128
A39: 23 | B39: 968 06-2246.R00 | C39: Vybourání dřevěných rámů oken jednoduch. pl. 4 m2 | D39: m2 | E39: 0.6 | G39: =E39*F39 -> 0 | O39: 2 | AA39: 12 | AB39: 0 | AC39: 23 | AZ39: 1 | BA39: =IF(AZ39=1,G39,0) -> 0 | BB39: =IF(AZ39=2,G39,0) -> 0 | BC39: =IF(AZ39=3,G39,0) -> 0 | BD39: =IF(AZ39=4,G39,0) -> 0 | BE39: =IF(AZ39=5,G39,0) -> 0 | CZ39: 0.00092
A40: 24 | B40: 968 06-1112.R00 | C40: Vyvěšení dřevěných okenních křídel pl. do 1,5 m2 | D40: kus | E40: 1 | G40: =E40*F40 -> 0 | O40: 2 | AA40: 12 | AB40: 0 | AC40: 24 | AZ40: 1 | BA40: =IF(AZ40=1,G40,0) -> 0 | BB40: =IF(AZ40=2,G40,0) -> 0 | BC40: =IF(AZ40=3,G40,0) -> 0 | BD40: =IF(AZ40=4,G40,0) -> 0 | BE40: =IF(AZ40=5,G40,0) -> 0 | CZ40: 0
A41: 25 | B41: 969 01-1121.R00 | C41: Vybourání vodovod., plynového vedení DN do 52 mm | D41: m | E41: 48 | G41: =E41*F41 -> 0 | O41: 2 | AA41: 12 | AB41: 0 | AC41: 25 | AZ41: 1 | BA41: =IF(AZ41=1,G41,0) -> 0 | BB41: =IF(AZ41=2,G41,0) -> 0 | BC41: =IF(AZ41=3,G41,0) -> 0 | BD41: =IF(AZ41=4,G41,0) -> 0 | BE41: =IF(AZ41=5,G41,0) -> 0 | CZ41: 0.00038
A42: 26 | B42: 962 05-2314.R00 | C42: Bourání pilířů železobetonových | D42: m3 | E42: 3.8 | G42: =E42*F42 -> 0 | O42: 2 | AA42: 12 | AB42: 0 | AC42: 26 | AZ42: 1 | BA42: =IF(AZ42=1,G42,0) -> 0 | BB42: =IF(AZ42=2,G42,0) -> 0 | BC42: =IF(AZ42=3,G42,0) -> 0 | BD42: =IF(AZ42=4,G42,0) -> 0 | BE42: =IF(AZ42=5,G42,0) -> 0 | CZ42: 0.01249
...
