Workbook
Name cisloobjektu: 'Krycí list'!$A$4
Name cislostavby: 'Krycí list'!$A$6
Name Datum: 'Krycí list'!$B$26
Name Dil: Rekapitulace!$A$6
Name Dodavka: Rekapitulace!$G$25
Name Dodavka0: Položky!#REF!
Name HSV: Rekapitulace!$E$25
Name HSV0: Položky!#REF!
Name HZS: Rekapitulace!$I$25
Name HZS0: Položky!#REF!
Name JKSO: 'Krycí list'!$F$4
Name MJ: 'Krycí list'!$G$4
Name Mont: Rekapitulace!$H$25
Name Montaz0: Položky!#REF!
Name NazevDilu: Rekapitulace!$B$6
Name nazevobjektu: 'Krycí list'!$C$4
Name nazevstavby: 'Krycí list'!$C$6
Name Objednatel: 'Krycí list'!$C$8
Name PocetMJ: 'Krycí list'!$G$7
Name Poznamka: 'Krycí list'!$B$37
Name Projektant: 'Krycí list'!$C$7
Name PSV: Rekapitulace!$F$25
Name PSV0: Položky!#REF!
Name SloupecCC: Položky!$G$6
Name SloupecCisloPol: Položky!$B$6
Name SloupecJC: Položky!$F$6
Name SloupecMJ: Položky!$D$6
Name SloupecMnozstvi: Položky!$E$6
Name SloupecNazPol: Položky!$C$6
Name SloupecPC: Položky!$A$6
Name Typ: Položky!#REF!
Name VRN: Rekapitulace!$H$31
Name VRNKc: Rekapitulace!$E$30
Name VRNnazev: Rekapitulace!$A$30
Name VRNproc: Rekapitulace!$F$30
Name VRNzakl: Rekapitulace!$G$30
Name Zakazka: 'Krycí list'!$G$9
Name Zaklad22: 'Krycí list'!$F$32
Name Zaklad5: 'Krycí list'!$F$30
Name Zhotovitel: 'Krycí list'!$E$11

Sheet Krycí list
A1: KRYCÍ LIST ROZPOČTU
A3: Objekt : | C3: Název objektu : | F3: JKSO :
A5: Stavba : | C5: Název stavby : | F5: SKP :
C6: čši brno - kanceláře
A7: Projektant : | E7: Počet měrných jednotek : | G7: 0
A8: Objednatel : | E8: Náklady na MJ : | G8: =IF(PocetMJ=0,,ROUND((F30+F32)/PocetMJ,1)) -> 0
A9: Počet listů : | E9: Zakázkové číslo :
A10: Zpracovatel projektu : | E10: Zhotovitel :
A12: ROZPOČTOVÉ NÁKLADY
A13: Rozpočtové náklady II. a III. hlavy | D13: Vedlejší rozpočtové náklady
B14: Dodávka celkem | C14: =Dodavka -> 0
A15: Z | B15: Montáž celkem | C15: =Mont -> 0
A16: R | B16: HSV celkem | C16: =HSV -> 0
A17: N | B17: PSV celkem | C17: =PSV -> 0
A18: ZRN celkem | C18: =SUM(C14:C17) -> 0
A20: HZS | C20: =HZS -> 0
A21: RN II.a III.hlavy | C21: =C18+C20 -> 0 | D21: Ostatní VRN | G21: =G22-SUM(G14:G20) -> 0
A22: ZRN+VRN+HZS | C22: =C21+G22 -> 0 | D22: VRN celkem | G22: =VRN -> 0
A23: Vypracoval | C23: Za zhotovitele | E23: Za objednatele
C24: Jméno : | E24: Jméno :
A25: Datum : | C25: Datum : | E25: Datum :
C26: Podpis: | E26: Podpis :
A29: Základ pro DPH | C29: 0 | D29: % činí :
A30: Základ pro DPH | C30: 10 | D30: % činí : | F30: 0
A31: DPH | C31: 10 | D31: % činí : | F31: =ROUND(PRODUCT(F30,C31/100),1) -> 0
A32: Základ pro DPH | C32: 20 | D32: % činí : | F32: =SUM(C22) -> 0
A33: DPH | C33: 20 | D33: % činí : | F33: =ROUND(PRODUCT(F32,C33/100),1) -> 0
A34: CENA ZA OBJEKT CELKEM | F34: =CEILING(SUM(F29:F33),IF(SUM(F29:F33)>=0,1,-1)) -> 0
A36: Poznámka :

Sheet Rekapitulace
A1: Stavba : | C1: =CONCATENATE(cislostavby," ",nazevstavby) -> čši brno - kanceláře
A2: Objekt : | C2: =CONCATENATE(cisloobjektu," ",nazevobjektu)
A4: REKAPITULACE STAVEBNÍCH DÍLŮ
B6: Stavební díl | E6: HSV | F6: PSV | G6: Dodávka | H6: Montáž | I6: HZS
A7: =Položky!B7 -> 3 | B7: =Položky!C7 -> Svislé a kompletní konstrukce | E7: =Položky!BA15 -> 0 | F7: =Položky!BB15 -> 0 | G7: =Položky!BC15 -> 0 | H7: =Položky!BD15 -> 0 | I7: =Položky!BE15 -> 0
A8: =Položky!B16 -> 61 | B8: =Položky!C16 -> Upravy povrchů vnitřní | E8: =Položky!BA18 -> 0 | F8: =Položky!BB18 -> 0 | G8: =Položky!BC18 -> 0 | H8: =Položky!BD18 -> 0 | I8: =Položky!BE18 -> 0
A9: =Položky!B19 -> 63 | B9: =Položky!C19 -> Podlahy a podlahové konstrukce | E9: =Položky!BA21 -> 0 | F9: =Položky!BB21 -> 0 | G9: =Položky!BC21 -> 0 | H9: =Položky!BD21 -> 0 | I9: =Položky!BE21 -> 0
A10: =Položky!B22 -> 64 | B10: =Položky!C22 -> Výplně otvorů | E10: =SUM(Položky!G31) -> 0 | F10: =Položky!BB31 -> 0 | G10: =Položky!BC31 -> 0 | H10: =Položky!BD31 -> 0 | I10: =Položky!BE31 -> 0
A11: =Položky!B32 -> 96 | B11: =Položky!C32 -> Bourání konstrukcí | E11: =Položky!BA45 -> 0 | F11: =Položky!BB45 -> 0 | G11: =Položky!BC45 -> 0 | H11: =Položky!BD45 -> 0 | I11: =Položky!BE45 -> 0
A12: =Položky!B46 -> 97 | B12: =Položky!C46 -> Prorážení otvorů | E12: =Položky!BA57 -> 0 | F12: =Položky!BB57 -> 0 | G12: =Položky!BC57 -> 0 | H12: =Položky!BD57 -> 0 | I12: =Položky!BE57 -> 0
A13: =Položky!B58 -> 711 | B13: =Položky!C58 -> Izolace proti vodě | E13: =Položky!BA61 -> 0 | F13: =Položky!BB61 -> 0 | G13: =Položky!BC61 -> 0 | H13: =Položky!BD61 -> 0 | I13: =Položky!BE61 -> 0
A14: =Položky!B62 -> 713 | B14: =Položky!C62 -> Izolace tepelné | E14: =Položky!BA67 -> 0 | F14: =Položky!BB67 -> 0 | G14: =Položky!BC67 -> 0 | H14: =Položky!BD67 -> 0 | I14: =Položky!BE67 -> 0
A15: =Položky!B68 -> 721 | B15: =Položky!C68 -> Vnitřní kanalizace | E15: =Položky!BA75 -> 0 | F15: =Položky!BB75 -> 0 | G15: =Položky!BC75 -> 0 | H15: =Položky!BD75 -> 0 | I15: =Položky!BE75 -> 0
A16: =Položky!B76 -> 722 | B16: =Položky!C76 -> Vnitřní vodovod | E16: =Položky!BA82 -> 0 | F16: =Položky!BB82 -> 0 | G16: =Položky!BC82 -> 0 | H16: =Položky!BD82 -> 0 | I16: =Položky!BE82 -> 0
A17: =Položky!B83 -> 724 | B17: =Položky!C83 -> VZT A VYT | E17: =Položky!BA95 -> 0 | F17: =SUM(Položky!G95) -> 0 | G17: =Položky!BC95 -> 0 | H17: =Položky!BD95 -> 0 | I17: =Položky!BE95 -> 0
A18: =Položky!B96 -> 725 | B18: =Položky!C96 -> Zařizovací předměty | E18: =Položky!BA113 -> 0 | F18: =SUM(Položky!G113) -> 0 | G18: =Položky!BC113 -> 0 | H18: =Položky!BD113 -> 0 | I18: =Položky!BE113 -> 0
A19: =Položky!B114 -> 771 | B19: =Položky!C114 -> Podlahy z dlaždic a obklady | E19: =Položky!BA120 -> 0 | F19: =Položky!BB120 -> 0 | G19: =Položky!BC120 -> 0 | H19: =Položky!BD120 -> 0 | I19: =Položky!BE120 -> 0
A20: =Položky!B121 -> 775 | B20: =Položky!C121 -> Podlahy vlysové a parketové | E20: =Položky!BA124 -> 0 | F20: =Položky!BB124 -> 0 | G20: =Položky!BC124 -> 0 | H20: =Položky!BD124 -> 0 | I20: =Položky!BE124 -> 0
A21: =Položky!B125 -> 781 | B21: =Položky!C125 -> Obklady keramické | E21: =Položky!BA132 -> 0 | F21: =Položky!BB132 -> 0 | G21: =Položky!BC132 -> 0 | H21: =Položky!BD132 -> 0 | I21: =Položky!BE132 -> 0
A22: =Položky!B133 -> 783 | B22: =Položky!C133 -> Nátěry | E22: =Položky!BA135 -> 0 | F22: =Položky!BB135 -> 0 | G22: =Položky!BC135 -> 0 | H22: =Položky!BD135 -> 0 | I22: =Položky!BE135 -> 0
A23: =Položky!B136 -> 784 | B23: =Položky!C136 -> Malby | E23: =Položky!BA139 -> 0 | F23: =Položky!BB139 -> 0 | G23: =Položky!BC139 -> 0 | H23: =Položky!BD139 -> 0 | I23: =Položky!BE139 -> 0
A24: =Položky!B140 -> M21 | B24: =Položky!C140 -> Elektromontáže | E24: =Položky!BA142 -> 0 | F24: =SUM(Položky!G142) -> 0 | G24: =Položky!BC142 -> 0 | H24: =Položky!BD142 -> 0 | I24: =Položky!BE142 -> 0
B25: CELKEM OBJEKT | E25: =SUM(E7:E24) -> 0 | F25: =SUM(F7:F24) -> 0 | G25: =SUM(G7:G24) -> 0 | H25: =SUM(H7:H24) -> 0 | I25: =SUM(I7:I24) -> 0
A27: VEDLEJŠÍ ROZPOČTOVÉ NÁKLADY
A29: Název VRN | E29: Kč | F29: % | G29: Základna | I29: Kč
G30: =CHOOSE(BA30+1,HSV+PSV,HSV+PSV+Mont,HSV+PSV+Dodavka+Mont,HSV,PSV,Mont,Dodavka,Mont+Dodavka,0) -> 0 | I30: =E30+F30*G30/100 -> 0 | BA30: 8
B31: CELKEM VRN | H31: =SUM(H30:H30) -> 0

Sheet Položky
A1: Položkový rozpočet
A3: Stavba : | C3: =CONCATENATE(cislostavby," ",nazevstavby) -> čši brno - kanceláře | F3: =Rekapitulace!H1 -> 0
A4: Objekt : | C4: =CONCATENATE(cisloobjektu," ",nazevobjektu)
A6: P.č. | B6: Číslo položky | C6: Název položky | D6: MJ | E6: množství | F6: cena / MJ | G6: celkem (Kč)
A7: Díl: | B7: 3 | C7: Svislé a kompletní konstrukce | O7: 1
A8: 1 | B8: 317 94-1121.R00 | C8: Osazení ocelových válcovaných nosníků do č.12 | D8: t | E8: 0.26 | G8: =E8*F8 -> 0 | O8: 2 | AA8: 12 | AB8: 0 | AC8: 1 | AZ8: 1 | BA8: =IF(AZ8=1,G8,0) -> 0 | BB8: =IF(AZ8=2,G8,0) -> 0 | BC8: =IF(AZ8=3,G8,0) -> 0 | BD8: =IF(AZ8=4,G8,0) -> 0 | BE8: =IF(AZ8=5,G8,0) -> 0 | CZ8: 0.01954
C9: nosník I180 | D9: t | E9: 0.26
A10: 2 | B10: 319 20-1317.R00 | C10: Vyrovnání zdiva pod omítku maltou ze SMS tl. 30 mm | D10: m2 | E10: 42 | G10: =E10*F10 -> 0 | O10: 2 | AA10: 12 | AB10: 0 | AC10: 2 | AZ10: 1 | BA10: =IF(AZ10=1,G10,0) -> 0 | BB10: =IF(AZ10=2,G10,0) -> 0 | BC10: =IF(AZ10=3,G10,0) -> 0 | BD10: =IF(AZ10=4,G10,0) -> 0 | BE10: =IF(AZ10=5,G10,0) -> 0 | CZ10: 0.02375
A11: 3 | B11: 342 26-2111.RT1 | C11: Příčka sádrokart. dvoj. oc. kce, 2x opl. tl.155 mm desky standard tl. 12,5 mm, izolace Orsil tl. 5 cm | D11: m2 | E11: 65 | G11: =E11*F11 -> 0 | O11: 2 | AA11: 12 | AB11: 0 | AC11: 3 | AZ11: 1 | BA11: =IF(AZ11=1,G11,0) -> 0 | BB11: =IF(AZ11=2,G11,0) -> 0 | BC11: =IF(AZ11=3,G11,0) -> 0 | BD11: =IF(AZ11=4,G11,0) -> 0 | BE11: =IF(AZ11=5,G11,0) -> 0 | CZ11: 0.05211
A12: 4 | B12: 342 26-3310.RT2 | C12: Úprava sádrokartonové příčky pro osazení umývadla do ocelové konstrukce, typ 0.50.10 | D12: kus | E12: 2 | G12: =E12*F12 -> 0 | O12: 2 | AA12: 12 | AB12: 0 | AC12: 4 | AZ12: 1 | BA12: =IF(AZ12=1,G12,0) -> 0 | BB12: =IF(AZ12=2,G12,0) -> 0 | BC12: =IF(AZ12=3,G12,0) -> 0 | BD12: =IF(AZ12=4,G12,0) -> 0 | BE12: =IF(AZ12=5,G12,0) -> 0 | CZ12: 0.0085
A13: 5 | B13: 342 26-4051.RT4 | C13: Podhled sádrokartonový na zavěšenou ocel. konstr. desky požár. impreg. tl. 12,5 mm, bez izolace | D13: m2 | E13: 45 | G13: =E13*F13 -> 0 | O13: 2 | AA13: 12 | AB13: 0 | AC13: 5 | AZ13: 1 | BA13: =IF(AZ13=1,G13,0) -> 0 | BB13: =IF(AZ13=2,G13,0) -> 0 | BC13: =IF(AZ13=3,G13,0) -> 0 | BD13: =IF(AZ13=4,G13,0) -> 0 | BE13: =IF(AZ13=5,G13,0) -> 0 | CZ13: 0.02017
A14: 6 | B14: 346 24-4361.R00 | C14: Zazdívka rýh, potrubí, kapes cihlami tl. 6,5 cm | D14: m2 | E14: 16 | G14: =E14*F14 -> 0 | O14: 2 | AA14: 12 | AB14: 0 | AC14: 6 | AZ14: 1 | BA14: =IF(AZ14=1,G14,0) -> 0 | BB14: =IF(AZ14=2,G14,0) -> 0 | BC14: =IF(AZ14=3,G14,0) -> 0 | BD14: =IF(AZ14=4,G14,0) -> 0 | BE14: =IF(AZ14=5,G14,0) -> 0 | CZ14: 0.13488
B15: Celkem za | C15: =CONCATENATE(B7," ",C7) -> 3 Svislé a kompletní konstrukce | G15: =SUM(G8:G14) -> 0 | O15: 4 | BA15: =SUM(BA7:BA14) -> 0 | BB15: =SUM(BB7:BB14) -> 0 | BC15: =SUM(BC7:BC14) -> 0 | BD15: =SUM(BD7:BD14) -> 0 | BE15: =SUM(BE7:BE14) -> 0
A16: Díl: | B16: 61 | C16: Upravy povrchů vnitřní | O16: 1
A17: 8 | B17: 611 42-1133.R00 | C17: Omítka vnitřní stropů rovných, MVC, štuková | D17: m2 | E17: 15 | G17: =E17*F17 -> 0 | O17: 2 | AA17: 12 | AB17: 0 | AC17: 8 | AZ17: 1 | BA17: =IF(AZ17=1,G17,0) -> 0 | BB17: =IF(AZ17=2,G17,0) -> 0 | BC17: =IF(AZ17=3,G17,0) -> 0 | BD17: =IF(AZ17=4,G17,0) -> 0 | BE17: =IF(AZ17=5,G17,0) -> 0 | CZ17: 0.05123
B18: Celkem za | C18: =CONCATENATE(B16," ",C16) -> 61 Upravy povrchů vnitřní | G18: =SUM(G16:G17) -> 0 | O18: 4 | BA18: =SUM(BA16:BA17) -> 0 | BB18: =SUM(BB16:BB17) -> 0 | BC18: =SUM(BC16:BC17) -> 0 | BD18: =SUM(BD16:BD17) -> 0 | BE18: =SUM(BE16:BE17) -> 0
A19: Díl: | B19: 63 | C19: Podlahy a podlahové konstrukce | O19: 1
A20: 9 | B20: 631 31-2411.RT3 | C20: Mazanina betonová tl. 5 - 8 cm C 8/10 (B 10) vyztužená ocelovými vlákny 25 kg / m3 | D20: m3 | E20: 4.8 | G20: =E20*F20 -> 0 | O20: 2 | AA20: 12 | AB20: 0 | AC20: 9 | AZ20: 1 | BA20: =IF(AZ20=1,G20,0) -> 0 | BB20: =IF(AZ20=2,G20,0) -> 0 | BC20: =IF(AZ20=3,G20,0) -> 0 | BD20: =IF(AZ20=4,G20,0) -> 0 | BE20: =IF(AZ20=5,G20,0) -> 0 | CZ20: 2.53485
B21: Celkem za | C21: =CONCATENATE(B19," ",C19) -> 63 Podlahy a podlahové konstrukce | G21: =SUM(G20) -> 0 | O21: 4 | BA21: =SUM(BA19:BA20) -> 0 | BB21: =SUM(BB19:BB20) -> 0 | BC21: =SUM(BC19:BC20) -> 0 | BD21: =SUM(BD19:BD20) -> 0 | BE21: =SUM(BE19:BE20) -> 0
A22: Díl: | B22: 64 | C22: Výplně otvorů | O22: 1
A23: 10 | B23: 642 94-2111.R00 | C23: Osazení zárubní dveřních ocelových, pl. do 2,5 m2 | D23: kus | E23: 7 | G23: =E23*F23 -> 0 | O23: 2 | AA23: 12 | AB23: 0 | AC23: 10 | AZ23: 1 | BA23: =IF(AZ23=1,G23,0) -> 0 | BB23: =IF(AZ23=2,G23,0) -> 0 | BC23: =IF(AZ23=3,G23,0) -> 0 | BD23: =IF(AZ23=4,G23,0) -> 0 | BE23: =IF(AZ23=5,G23,0) -> 0 | CZ23: 0.01891
A24: 11 | B24: 648 95-2421.R00 | C24: Osazení parapetních desek dřevěných š. do 50 cm | D24: m | E24: 6 | G24: =E24*F24 -> 0 | O24: 2 | AA24: 12 | AB24: 0 | AC24: 11 | AZ24: 1 | BA24: =IF(AZ24=1,G24,0) -> 0 | BB24: =IF(AZ24=2,G24,0) -> 0 | BC24: =IF(AZ24=3,G24,0) -> 0 | BD24: =IF(AZ24=4,G24,0) -> 0 | BE24: =IF(AZ24=5,G24,0) -> 0 | CZ24: 0.00901
C25: okno plast 1,2x2,4 vč. oplechování | D25: ks | E25: 2 | G25: =E25*F25 -> 0
A26: 12 | B26: 1 | C26: parapet dřevěný | D26: bm | E26: 6 | G26: =E26*F26 -> 0 | O26: 2 | AA26: 12 | AB26: 0 | AC26: 12 | AZ26: 1 | BA26: =IF(AZ26=1,G26,0) -> 0 | BB26: =IF(AZ26=2,G26,0) -> 0 | BC26: =IF(AZ26=3,G26,0) -> 0 | BD26: =IF(AZ26=4,G26,0) -> 0 | BE26: =IF(AZ26=5,G26,0) -> 0 | CZ26: 0
A27: 13 | B27: 2 | C27: zárubeň ocelová | D27: ks | E27: 7 | G27: =E27*F27 -> 0 | O27: 2 | AA27: 12 | AB27: 0 | AC27: 13 | AZ27: 1 | BA27: =IF(AZ27=1,G27,0) -> 0 | BB27: =IF(AZ27=2,G27,0) -> 0 | BC27: =IF(AZ27=3,G27,0) -> 0 | BD27: =IF(AZ27=4,G27,0) -> 0 | BE27: =IF(AZ27=5,G27,0) -> 0 | CZ27: 0
A28: 14 | B28: 642 94-2213.R00 | C28: Osazení zárubně do sádrokarton. příčky tl. 125 mm | D28: kus | E28: 2 | G28: =E28*F28 -> 0 | O28: 2 | AA28: 12 | AB28: 0 | AC28: 14 | AZ28: 1 | BA28: =IF(AZ28=1,G28,0) -> 0 | BB28: =IF(AZ28=2,G28,0) -> 0 | BC28: =IF(AZ28=3,G28,0) -> 0 | BD28: =IF(AZ28=4,G28,0) -> 0 | BE28: =IF(AZ28=5,G28,0) -> 0 | CZ28: 0.00292
A29: 15 | B29: 642 94-0016.RAC | C29: Dveře jednokřídlové 90/197, překlad, zárubeň, práh dřevěné vchodové palubkové+klika+zámek | D29: kus | E29: 1 | G29: =E29*F29 -> 0 | O29: 2 | AA29: 12 | AB29: 0 | AC29: 15 | AZ29: 1 | BA29: =IF(AZ29=1,G29,0) -> 0 | BB29: =IF(AZ29=2,G29,0) -> 0 | BC29: =IF(AZ29=3,G29,0) -> 0 | BD29: =IF(AZ29=4,G29,0) -> 0 | BE29: =IF(AZ29=5,G29,0) -> 0 | CZ29: 0.17822
A30: 16 | B30: 642 94-0010.RAA | C30: Dveře jednokřídlové 60,70,80/197, překlad, zárubeň, práh dřevěné hladké plné+klika+zámek | D30: kus | E30: 6 | G30: =E30*F30 -> 0 | O30: 2 | AA30: 12 | AB30: 0 | AC30: 16 | AZ30: 1 | BA30: =IF(AZ30=1,G30,0) -> 0 | BB30: =IF(AZ30=2,G30,0) -> 0 | BC30: =IF(AZ30=3,G30,0) -> 0 | BD30: =IF(AZ30=4,G30,0) -> 0 | BE30: =IF(AZ30=5,G30,0) -> 0 | CZ30: 0.16077
B31: Celkem za | C31: =CONCATENATE(B22," ",C22) -> 64 Výplně otvorů | G31: =SUM(G23:G30) -> 0 | O31: 4 | BA31: =SUM(BA22:BA30) -> 0 | BB31: =SUM(BB22:BB30) -> 0 | BC31: =SUM(BC22:BC30) -> 0 | BD31: =SUM(BD22:BD30) -> 0 | BE31: =SUM(BE22:BE30) -> 0
A32: Díl: | B32: 96 | C32: Bourání konstrukcí | O32: 1
A33: 17 | B33: 962 03-1133.R00 | C33: Bourání příček cihelných tl. 15 cm | D33: m2 | E33: 2 | G33: =E33*F33 -> 0 | O33: 2 | AA33: 12 | AB33: 0 | AC33: 17 | AZ33: 1 | BA33: =IF(AZ33=1,G33,0) -> 0 | BB33: =IF(AZ33=2,G33,0) -> 0 | BC33: =IF(AZ33=3,G33,0) -> 0 | BD33: =IF(AZ33=4,G33,0) -> 0 | BE33: =IF(AZ33=5,G33,0) -> 0 | CZ33: 0.00067
A34: 18 | B34: 963 01-2510.R00 | C34: Bourání stropů z desek žb. š. 30 cm, tl. do 14 cm | D34: m3 | E34: 1.2 | G34: =E34*F34 -> 0 | O34: 2 | AA34: 12 | AB34: 0 | AC34: 18 | AZ34: 1 | BA34: =IF(AZ34=1,G34,0) -> 0 | BB34: =IF(AZ34=2,G34,0) -> 0 | BC34: =IF(AZ34=3,G34,0) -> 0 | BD34: =IF(AZ34=4,G34,0) -> 0 | BE34: =IF(AZ34=5,G34,0) -> 0 | CZ34: 0.00741
A35: 19 | B35: 964 01-1211.R00 | C35: Vybourání ŽB překladů prefa dl. 3 m, 50 kg/m | D35: m3 | E35: 1.2 | G35: =E35*F35 -> 0 | O35: 2 | AA35: 12 | AB35: 0 | AC35: 19 | AZ35: 1 | BA35: =IF(AZ35=1,G35,0) -> 0 | BB35: =IF(AZ35=2,G35,0) -> 0 | BC35: =IF(AZ35=3,G35,0) -> 0 | BD35: =IF(AZ35=4,G35,0) -> 0 | BE35: =IF(AZ35=5,G35,0) -> 0 | CZ35: 0.01799
A36: 20 | B36: 965 08-2932.R00 | C36: Odstranění násypu tl. do 20 cm, plocha do 2 m2 | D36: m3 | E36: 12 | G36: =E36*F36 -> 0 | O36: 2 | AA36: 12 | AB36: 0 | AC36: 20 | AZ36: 1 | BA36: =IF(AZ36=1,G36,0) -> 0 | BB36: =IF(AZ36=2,G36,0) -> 0 | BC36: =IF(AZ36=3,G36,0) -> 0 | BD36: =IF(AZ36=4,G36,0) -> 0 | BE36: =IF(AZ36=5,G36,0) -> 0 | CZ36: 0
A37: 21 | B37: 965 04-2141.R00 | C37: Bourání mazanin betonových tl. 10 cm, nad 4 m2 | D37: m3 | E37: 6 | G37: =E37*F37 -> 0 | O37: 2 | AA37: 12 | AB37: 0 | AC37: 21 | AZ37: 1 | BA37: =IF(AZ37=1,G37,0) -> 0 | BB37: =IF(AZ37=2,G37,0) -> 0 | BC37: =IF(AZ37=3,G37,0) -> 0 | BD37: =IF(AZ37=4,G37,0) -> 0 | BE37: =IF(AZ37=5,G37,0) -> 0 | CZ37: 0
A38: 22 | B38: 962 03-2241.R00 | C38: Bourání zdiva z cihel pálených na MC | D38: m3 | E38: 3.8 | G38: =E38*F38 -> 0 | O38: 2 | AA38: 12 | AB38: 0 | AC38: 22 | AZ38: 1 | BA38: =IF(AZ38=1,G38,0) -> 0 | BB38: =IF(AZ38=2,G38,0) -> 0 | BC38: =IF(AZ38=3,G38,0) -> 0 | BD38: =IF(AZ38=4,G38,0) -> 0 | BE38: =IF(AZ38=5,G38,0) -> 0 | CZ38: 0.00128
A39: 23 | B39: 968 06-2246.R00 | C39: Vybourání dřevěných rámů oken jednoduch. pl. 4 m2 | D39: m2 | E39: 0.6 | G39: =E39*F39 -> 0 | O39: 2 | AA39: 12 | AB39: 0 | AC39: 23 | AZ39: 1 | BA39: =IF(AZ39=1,G39,0) -> 0 | BB39: =IF(AZ39=2,G39,0) -> 0 | BC39: =IF(AZ39=3,G39,0) -> 0 | BD39: =IF(AZ39=4,G39,0) -> 0 | BE39: =IF(AZ39=5,G39,0) -> 0 | CZ39: 0.00092
A40: 24 | B40: 968 06-1112.R00 | C40: Vyvěšení dřevěných okenních křídel pl. do 1,5 m2 | D40: kus | E40: 1 | G40: =E40*F40 -> 0 | O40: 2 | AA40: 12 | AB40: 0 | AC40: 24 | AZ40: 1 | BA40: =IF(AZ40=1,G40,0) -> 0 | BB40: =IF(AZ40=2,G40,0) -> 0 | BC40: =IF(AZ40=3,G40,0) -> 0 | BD40: =IF(AZ40=4,G40,0) -> 0 | BE40: =IF(AZ40=5,G40,0) -> 0 | CZ40: 0
A41: 25 | B41: 969 01-1121.R00 | C41: Vybourání vodovod., plynového vedení DN do 52 mm | D41: m | E41: 48 | G41: =E41*F41 -> 0 | O41: 2 | AA41: 12 | AB41: 0 | AC41: 25 | AZ41: 1 | BA41: =IF(AZ41=1,G41,0) -> 0 | BB41: =IF(AZ41=2,G41,0) -> 0 | BC41: =IF(AZ41=3,G41,0) -> 0 | BD41: =IF(AZ41=4,G41,0) -> 0 | BE41: =IF(AZ41=5,G41,0) -> 0 | CZ41: 0.00038
A42: 26 | B42: 962 05-2314.R00 | C42: Bourání pilířů železobetonových | D42: m3 | E42: 3.8 | G42: =E42*F42 -> 0 | O42: 2 | AA42: 12 | AB42: 0 | AC42: 26 | AZ42: 1 | BA42: =IF(AZ42=1,G42,0) -> 0 | BB42: =IF(AZ42=2,G42,0) -> 0 | BC42: =IF(AZ42=3,G42,0) -> 0 | BD42: =IF(AZ42=4,G42,0) -> 0 | BE42: =IF(AZ42=5,G42,0) -> 0 | CZ42: 0.01249
A43: 27 | B43: 962 03-2314.R00 | C43: Bourání pilířů cihelných | D43: m3 | E43: 4.5 | G43: =E43*F43 -> 0 | O43: 2 | AA43: 12 | AB43: 0 | AC43: 27 | AZ43: 1 | BA43: =IF(AZ43=1,G43,0) -> 0 | BB43: =IF(AZ43=2,G43,0) -> 0 | BC43: =IF(AZ43=3,G43,0) -> 0 | BD43: =IF(AZ43=4,G43,0) -> 0 | BE43: =IF(AZ43=5,G43,0) -> 0 | CZ43: 0.01249
A44: 28 | B44: 967 03-1734.R00 | C44: Přisekání plošné zdiva cihelného na MVC tl. 30 cm | D44: m2 | E44: 24 | G44: =E44*F44 -> 0 | O44: 2 | AA44: 12 | AB44: 0 | AC44: 28 | AZ44: 1 | BA44: =IF(AZ44=1,G44,0) -> 0 | BB44: =IF(AZ44=2,G44,0) -> 0 | BC44: =IF(AZ44=3,G44,0) -> 0 | BD44: =IF(AZ44=4,G44,0) -> 0 | BE44: =IF(AZ44=5,G44,0) -> 0 | CZ44: 0.00034
B45: Celkem za | C45: =CONCATENATE(B32," ",C32) -> 96 Bourání konstrukcí | G45: =SUM(G33:G44) -> 0 | O45: 4 | BA45: =SUM(BA32:BA44) -> 0 | BB45: =SUM(BB32:BB44) -> 0 | BC45: =SUM(BC32:BC44) -> 0 | BD45: =SUM(BD32:BD44) -> 0 | BE45: =SUM(BE32:BE44) -> 0
A46: Díl: | B46: 97 | C46: Prorážení otvorů | O46: 1
A47: 29 | B47: 978 01-1191.R00 | C47: Otlučení omítek vnitřních vápenných stropů do 100% | D47: m2 | E47: 15 | G47: =E47*F47 -> 0 | O47: 2 | AA47: 12 | AB47: 0 | AC47: 29 | AZ47: 1 | BA47: =IF(AZ47=1,G47,0) -> 0 | BB47: =IF(AZ47=2,G47,0) -> 0 | BC47: =IF(AZ47=3,G47,0) -> 0 | BD47: =IF(AZ47=4,G47,0) -> 0 | BE47: =IF(AZ47=5,G47,0) -> 0 | CZ47: 0
A48: 30 | B48: 978 05-9531.R00 | C48: Odsekání vnitřních obkladů stěn nad 2 m2 | D48: m2 | E48: 4.8 | G48: =E48*F48 -> 0 | O48: 2 | AA48: 12 | AB48: 0 | AC48: 30 | AZ48: 1 | BA48: =IF(AZ48=1,G48,0) -> 0 | BB48: =IF(AZ48=2,G48,0) -> 0 | BC48: =IF(AZ48=3,G48,0) -> 0 | BD48: =IF(AZ48=4,G48,0) -> 0 | BE48: =IF(AZ48=5,G48,0) -> 0 | CZ48: 0
A49: 31 | B49: 979 01-1219.R00 | C49: Přípl.k svislé dopr.suti za každé další NP nošením | D49: t | E49: 60.2 | G49: =E49*F49 -> 0 | O49: 2 | AA49: 12 | AB49: 0 | AC49: 31 | AZ49: 1 | BA49: =IF(AZ49=1,G49,0) -> 0 | BB49: =IF(AZ49=2,G49,0) -> 0 | BC49: =IF(AZ49=3,G49,0) -> 0 | BD49: =IF(AZ49=4,G49,0) -> 0 | BE49: =IF(AZ49=5,G49,0) -> 0 | CZ49: 0
A50: 32 | B50: 979 08-1111.R00 | C50: Odvoz suti a vybour. hmot na skládku do 1 km | D50: t | E50: 60.2 | G50: =E50*F50 -> 0 | O50: 2 | AA50: 12 | AB50: 0 | AC50: 32 | AZ50: 1 | BA50: =IF(AZ50=1,G50,0) -> 0 | BB50: =IF(AZ50=2,G50,0) -> 0 | BC50: =IF(AZ50=3,G50,0) -> 0 | BD50: =IF(AZ50=4,G50,0) -> 0 | BE50: =IF(AZ50=5,G50,0) -> 0 | CZ50: 0
A51: 33 | B51: 979 99-9999.R00 | C51: Poplatek za skladku 10 % příměsí - DUFONEV Brno | D51: t | E51: 60.2 | G51: =E51*F51 -> 0 | O51: 2 | AA51: 12 | AB51: 0 | AC51: 33 | AZ51: 1 | BA51: =IF(AZ51=1,G51,0) -> 0 | BB51: =IF(AZ51=2,G51,0) -> 0 | BC51: =IF(AZ51=3,G51,0) -> 0 | BD51: =IF(AZ51=4,G51,0) -> 0 | BE51: =IF(AZ51=5,G51,0) -> 0 | CZ51: 0
A52: 34 | B52: 979 08-1121.R00 | C52: Příplatek k odvozu za každý další 1 km | D52: t | E52: 900 | G52: =E52*F52 -> 0 | O52: 2 | AA52: 12 | AB52: 0 | AC52: 34 | AZ52: 1 | BA52: =IF(AZ52=1,G52,0) -> 0 | BB52: =IF(AZ52=2,G52,0) -> 0 | BC52: =IF(AZ52=3,G52,0) -> 0 | BD52: =IF(AZ52=4,G52,0) -> 0 | BE52: =IF(AZ52=5,G52,0) -> 0 | CZ52: 0
A53: 35 | B53: 979 08-2111.R00 | C53: Vnitrostaveništní doprava suti do 10 m | D53: t | E53: 60.2 | G53: =E53*F53 -> 0 | O53: 2 | AA53: 12 | AB53: 0 | AC53: 35 | AZ53: 1 | BA53: =IF(AZ53=1,G53,0) -> 0 | BB53: =IF(AZ53=2,G53,0) -> 0 | BC53: =IF(AZ53=3,G53,0) -> 0 | BD53: =IF(AZ53=4,G53,0) -> 0 | BE53: =IF(AZ53=5,G53,0) -> 0 | CZ53: 0
A54: 36 | B54: 979 08-2121.R00 | C54: Příplatek k vnitrost. dopravě suti za dalších 5 m | D54: t | E54: 900 | G54: =E54*F54 -> 0 | O54: 2 | AA54: 12 | AB54: 0 | AC54: 36 | AZ54: 1 | BA54: =IF(AZ54=1,G54,0) -> 0 | BB54: =IF(AZ54=2,G54,0) -> 0 | BC54: =IF(AZ54=3,G54,0) -> 0 | BD54: =IF(AZ54=4,G54,0) -> 0 | BE54: =IF(AZ54=5,G54,0) -> 0 | CZ54: 0
A55: 37 | B55: 973 03-1325.R00 | C55: Vysekání kapes zeď cihel. MVC, pl. 0,1m2, hl. 30cm | D55: kus | E55: 12 | G55: =E55*F55 -> 0 | O55: 2 | AA55: 12 | AB55: 0 | AC55: 37 | AZ55: 1 | BA55: =IF(AZ55=1,G55,0) -> 0 | BB55: =IF(AZ55=2,G55,0) -> 0 | BC55: =IF(AZ55=3,G55,0) -> 0 | BD55: =IF(AZ55=4,G55,0) -> 0 | BE55: =IF(AZ55=5,G55,0) -> 0 | CZ55: 0.00049
A56: 38 | B56: 974 03-1155.R00 | C56: Vysekání rýh ve zdi cihelné 10 x 20 cm | D56: m | E56: 84 | G56: =E56*F56 -> 0 | O56: 2 | AA56: 12 | AB56: 0 | AC56: 38 | AZ56: 1 | BA56: =IF(AZ56=1,G56,0) -> 0 | BB56: =IF(AZ56=2,G56,0) -> 0 | BC56: =IF(AZ56=3,G56,0) -> 0 | BD56: =IF(AZ56=4,G56,0) -> 0 | BE56: =IF(AZ56=5,G56,0) -> 0 | CZ56: 0.00049
B57: Celkem za | C57: =CONCATENATE(B46," ",C46) -> 97 Prorážení otvorů | G57: =SUM(G47:G56) -> 0 | O57: 4 | BA57: =SUM(BA46:BA56) -> 0 | BB57: =SUM(BB46:BB56) -> 0 | BC57: =SUM(BC46:BC56) -> 0 | BD57: =SUM(BD46:BD56) -> 0 | BE57: =SUM(BE46:BE56) -> 0
A58: Díl: | B58: 711 | C58: Izolace proti vodě | O58: 1
A59: 39 | B59: 711 14-2559.R00 | C59: D+M Izolace proti vlhkosti svislá pásy přitavením IPA1x | D59: m2 | E59: 60 | G59: =E59*F59 -> 0 | O59: 2 | AA59: 12 | AB59: 0 | AC59: 39 | AZ59: 2 | BA59: =IF(AZ59=1,G59,0) -> 0 | BB59: =IF(AZ59=2,G59,0) -> 0 | BC59: =IF(AZ59=3,G59,0) -> 0 | BD59: =IF(AZ59=4,G59,0) -> 0 | BE59: =IF(AZ59=5,G59,0) -> 0 | CZ59: 0.00058
A60: 40 | B60: 711 11-1001.R00 | C60: Izolace proti vlhkosti vodor. nátěr ALP za studena | D60: m2 | E60: 60 | G60: =E60*F60 -> 0 | O60: 2 | AA60: 12 | AB60: 0 | AC60: 40 | AZ60: 2 | BA60: =IF(AZ60=1,G60,0) -> 0 | BB60: =IF(AZ60=2,G60,0) -> 0 | BC60: =IF(AZ60=3,G60,0) -> 0 | BD60: =IF(AZ60=4,G60,0) -> 0 | BE60: =IF(AZ60=5,G60,0) -> 0 | CZ60: 0
B61: Celkem za | C61: =CONCATENATE(B58," ",C58) -> 711 Izolace proti vodě | G61: =SUM(G59:G60) -> 0 | O61: 4 | BA61: =SUM(BA58:BA60) -> 0 | BB61: =SUM(BB58:BB60) -> 0 | BC61: =SUM(BC58:BC60) -> 0 | BD61: =SUM(BD58:BD60) -> 0 | BE61: =SUM(BE58:BE60) -> 0
A62: Díl: | B62: 713 | C62: Izolace tepelné | O62: 1
A63: 41 | B63: 713 12-1111.RU9 | C63: Izolace tepelná podlah na sucho, jednovrstvá včetně dodávky Nobasil PTN tl. 50/45 mm | D63: m2 | E63: 60 | G63: =E63*F63 -> 0 | O63: 2 | AA63: 12 | AB63: 0 | AC63: 41 | AZ63: 2 | BA63: =IF(AZ63=1,G63,0) -> 0 | BB63: =IF(AZ63=2,G63,0) -> 0 | BC63: =IF(AZ63=3,G63,0) -> 0 | BD63: =IF(AZ63=4,G63,0) -> 0 | BE63: =IF(AZ63=5,G63,0) -> 0 | CZ63: 0.00588
A64: 42 | B64: 3 | C64: tep.izolace podhledu min. vata 100 mm volně | D64: m2 | E64: 60 | G64: =E64*F64 -> 0 | O64: 2 | AA64: 12 | AB64: 0 | AC64: 42 | AZ64: 2 | BA64: =IF(AZ64=1,G64,0) -> 0 | BB64: =IF(AZ64=2,G64,0) -> 0 | BC64: =IF(AZ64=3,G64,0) -> 0 | BD64: =IF(AZ64=4,G64,0) -> 0 | BE64: =IF(AZ64=5,G64,0) -> 0 | CZ64: 0
A65: 43 | B65: 713 11-1211.RK3 | C65: Montáž parozábrany krovů spodem s přelepením spojů Jutafol N 110 standard | D65: m2 | E65: 60 | G65: =E65*F65 -> 0 | O65: 2 | AA65: 12 | AB65: 0 | AC65: 43 | AZ65: 2 | BA65: =IF(AZ65=1,G65,0) -> 0 | BB65: =IF(AZ65=2,G65,0) -> 0 | BC65: =IF(AZ65=3,G65,0) -> 0 | BD65: =IF(AZ65=4,G65,0) -> 0 | BE65: =IF(AZ65=5,G65,0) -> 0 | CZ65: 0.00014
A66: 43a | C66: přesun hmot | D66: % | E66: 0.024
B67: Celkem za | C67: =CONCATENATE(B62," ",C62) -> 713 Izolace tepelné | G67: =SUM(G63:G65) -> 0 | O67: 4 | BA67: =SUM(BA62:BA65) -> 0 | BB67: =SUM(BB62:BB65) -> 0 | BC67: =SUM(BC62:BC65) -> 0 | BD67: =SUM(BD62:BD65) -> 0 | BE67: =SUM(BE62:BE65) -> 0
A68: Díl: | B68: 721 | C68: Vnitřní kanalizace | O68: 1
A69: 44 | B69: 721 17-6103.R00 | C69: Potrubí HT připojovací DN 50 x 1,8 mm | D69: m | E69: 18 | G69: =E69*F69 -> 0 | O69: 2 | AA69: 12 | AB69: 0 | AC69: 44 | AZ69: 2 | BA69: =IF(AZ69=1,G69,0) -> 0 | BB69: =IF(AZ69=2,G69,0) -> 0 | BC69: =IF(AZ69=3,G69,0) -> 0 | BD69: =IF(AZ69=4,G69,0) -> 0 | BE69: =IF(AZ69=5,G69,0) -> 0 | CZ69: 0.00047
A70: 45 | B70: 721 17-6105.R00 | C70: Potrubí HT připojovací DN 100 x 2,7 mm | D70: m | E70: 36 | G70: =E70*F70 -> 0 | O70: 2 | AA70: 12 | AB70: 0 | AC70: 45 | AZ70: 2 | BA70: =IF(AZ70=1,G70,0) -> 0 | BB70: =IF(AZ70=2,G70,0) -> 0 | BC70: =IF(AZ70=3,G70,0) -> 0 | BD70: =IF(AZ70=4,G70,0) -> 0 | BE70: =IF(AZ70=5,G70,0) -> 0 | CZ70: 0.00152
A71: 46 | B71: 721 19-4105.R00 | C71: Vyvedení odpadních výpustek D 50 x 1,8 | D71: kus | E71: 4 | G71: =E71*F71 -> 0 | O71: 2 | AA71: 12 | AB71: 0 | AC71: 46 | AZ71: 2 | BA71: =IF(AZ71=1,G71,0) -> 0 | BB71: =IF(AZ71=2,G71,0) -> 0 | BC71: =IF(AZ71=3,G71,0) -> 0 | BD71: =IF(AZ71=4,G71,0) -> 0 | BE71: =IF(AZ71=5,G71,0) -> 0 | CZ71: 0
A72: 47 | B72: 721 19-4109.R00 | C72: Vyvedení odpadních výpustek D 110 x 2,3 | D72: kus | E72: 2 | G72: =E72*F72 -> 0 | O72: 2 | AA72: 12 | AB72: 0 | AC72: 47 | AZ72: 2 | BA72: =IF(AZ72=1,G72,0) -> 0 | BB72: =IF(AZ72=2,G72,0) -> 0 | BC72: =IF(AZ72=3,G72,0) -> 0 | BD72: =IF(AZ72=4,G72,0) -> 0 | BE72: =IF(AZ72=5,G72,0) -> 0 | CZ72: 0
A73: 48 | B73: 721 10-0902.R00 | C73: Oprava - přetěsnění hrdla odpadního potrubí DN 100 | D73: kus | E73: 1 | G73: =E73*F73 -> 0 | O73: 2 | AA73: 12 | AB73: 0 | AC73: 48 | AZ73: 2 | BA73: =IF(AZ73=1,G73,0) -> 0 | BB73: =IF(AZ73=2,G73,0) -> 0 | BC73: =IF(AZ73=3,G73,0) -> 0 | BD73: =IF(AZ73=4,G73,0) -> 0 | BE73: =IF(AZ73=5,G73,0) -> 0 | CZ73: 0.00023
C74: přesun hmot | E74: 0.02 | G74: =E74*F74 -> 0
B75: Celkem za | C75: =CONCATENATE(B68," ",C68) -> 721 Vnitřní kanalizace | G75: =SUM(G69:G74) -> 0 | O75: 4 | BA75: =SUM(BA68:BA73) -> 0 | BB75: =SUM(BB68:BB73) -> 0 | BC75: =SUM(BC68:BC73) -> 0 | BD75: =SUM(BD68:BD73) -> 0 | BE75: =SUM(BE68:BE73) -> 0
A76: Díl: | B76: 722 | C76: Vnitřní vodovod | O76: 1
A77: 49 | B77: 722 17-2311.R00 | C77: Potrubí z PPR Instaplast, studená, D 20/2,8 mm | D77: m | E77: 128 | G77: =E77*F77 -> 0 | O77: 2 | AA77: 12 | AB77: 0 | AC77: 49 | AZ77: 2 | BA77: =IF(AZ77=1,G77,0) -> 0 | BB77: =IF(AZ77=2,G77,0) -> 0 | BC77: =IF(AZ77=3,G77,0) -> 0 | BD77: =IF(AZ77=4,G77,0) -> 0 | BE77: =IF(AZ77=5,G77,0) -> 0 | CZ77: 0.004
A78: 50 | B78: 722 17-2312.R00 | C78: Potrubí z PPR Instaplast, studená, D 25/3,5 mm | D78: m | E78: 2 | G78: =E78*F78 -> 0 | O78: 2 | AA78: 12 | AB78: 0 | AC78: 50 | AZ78: 2 | BA78: =IF(AZ78=1,G78,0) -> 0 | BB78: =IF(AZ78=2,G78,0) -> 0 | BC78: =IF(AZ78=3,G78,0) -> 0 | BD78: =IF(AZ78=4,G78,0) -> 0 | BE78: =IF(AZ78=5,G78,0) -> 0 | CZ78: 0.00518
A79: 51 | B79: 722 18-2001.RT1 | C79: Montáž izolačních skruží na potrubí přímé DN 25 samolepící spoj, rychlouzávěr | D79: m | E79: 69 | G79: =E79*F79 -> 0 | O79: 2 | AA79: 12 | AB79: 0 | AC79: 51 | AZ79: 2 | BA79: =IF(AZ79=1,G79,0) -> 0 | BB79: =IF(AZ79=2,G79,0) -> 0 | BC79: =IF(AZ79=3,G79,0) -> 0 | BD79: =IF(AZ79=4,G79,0) -> 0 | BE79: =IF(AZ79=5,G79,0) -> 0 | CZ79: 0
A80: 52 | B80: 722 19-0401.R00 | C80: Vyvedení a upevnění výpustek DN 15 | D80: kus | E80: 12 | G80: =E80*F80 -> 0 | O80: 2 | AA80: 12 | AB80: 0 | AC80: 52 | AZ80: 2 | BA80: =IF(AZ80=1,G80,0) -> 0 | BB80: =IF(AZ80=2,G80,0) -> 0 | BC80: =IF(AZ80=3,G80,0) -> 0 | BD80: =IF(AZ80=4,G80,0) -> 0 | BE80: =IF(AZ80=5,G80,0) -> 0 | CZ80: 0
C81: přesun hmot | E81: 0.2 | G81: =E81*F81 -> 0
B82: Celkem za | C82: =CONCATENATE(B76," ",C76) -> 722 Vnitřní vodovod | G82: =SUM(G77:G81) -> 0 | O82: 4 | BA82: =SUM(BA76:BA80) -> 0 | BB82: =SUM(BB76:BB80) -> 0 | BC82: =SUM(BC76:BC80) -> 0 | BD82: =SUM(BD76:BD80) -> 0 | BE82: =SUM(BE76:BE80) -> 0
A83: Díl: | B83: 724 | C83: VZT A VYT | O83: 1
A84: 53 | B84: 724 100 | C84: vzt potrubí odtahu wc dn 100 izol vč. obkladu a obezdění | D84: soubor | E84: 18 | G84: =E84*F84 -> 0 | O84: 2 | AA84: 12 | AB84: 0 | AC84: 53 | AZ84: 2 | BA84: =IF(AZ84=1,G84,0) -> 0 | BB84: =IF(AZ84=2,G84,0) -> 0 | BC84: =IF(AZ84=3,G84,0) -> 0 | BD84: =IF(AZ84=4,G84,0) -> 0 | BE84: =IF(AZ84=5,G84,0) -> 0 | CZ84: 0.03816
A85: 53-1 | C85: vzt potrubí digestoř dn 150 | D85: soubor | E85: 8 | G85: =E85*F85 -> 0
A86: 53-2 | C86: otopné těleso 22/600/800 | D86: soubor | E86: 2 | G86: =E86*F86 -> 0
A87: 53-3 | C87: otopné těleso 21/900/500 | D87: soubor | E87: 1 | G87: =E87*F87 -> 0
A88: 53-4 | C88: otopné těleso 33/300/1400 | D88: soubor | E88: 1 | G88: =E88*F88 -> 0
A89: 53-5 | C89: hlavice tva -k | D89: soubor | E89: 6 | G89: =E89*F89 -> 0
A90: 53-6 | C90: reg. Systém zpt vigantice pro 6 hlavic | D90: soubor | E90: 1 | G90: =E90*F90 -> 0
A91: 53-7 | C91: úprava rozvodů | D91: soubor | E91: 1 | G91: =E91*F91 -> 0
A92: 53-8 | C92: klt 700.450 | D92: soubor | E92: 1 | G92: =E92*F92 -> 0
A93: 54 | B93: 724 101 | C93: JEDNOTKA MARTA vč. montáže | D93: soubor | E93: 1 | G93: =E93*F93 -> 0 | O93: 2 | AA93: 12 | AB93: 0 | AC93: 54 | AZ93: 2 | BA93: =IF(AZ93=1,G93,0) -> 0 | BB93: =IF(AZ93=2,G93,0) -> 0 | BC93: =IF(AZ93=3,G93,0) -> 0 | BD93: =IF(AZ93=4,G93,0) -> 0 | BE93: =IF(AZ93=5,G93,0) -> 0 | CZ93: 0.03825
A94: 55 | B94: 724 102 | C94: ventilátor dn 100, 100 m3/h | D94: soubor | E94: 2 | G94: =E94*F94 -> 0 | O94: 2 | AA94: 12 | AB94: 0 | AC94: 55 | AZ94: 2 | BA94: =IF(AZ94=1,G94,0) -> 0 | BB94: =IF(AZ94=2,G94,0) -> 0 | BC94: =IF(AZ94=3,G94,0) -> 0 | BD94: =IF(AZ94=4,G94,0) -> 0 | BE94: =IF(AZ94=5,G94,0) -> 0 | CZ94: 0.03799
B95: Celkem za | C95: =CONCATENATE(B83," ",C83) -> 724 VZT A VYT | G95: =SUM(G84:G94) -> 0 | O95: 4 | BA95: =SUM(BA83:BA94) -> 0 | BB95: =SUM(BB83:BB94) -> 0 | BC95: =SUM(BC83:BC94) -> 0 | BD95: =SUM(BD83:BD94) -> 0 | BE95: =SUM(BE83:BE94) -> 0
A96: Díl: | B96: 725 | C96: Zařizovací předměty | O96: 1
A97: 56 | B97: 725 01-4132.R00 | C97: Klozet závěsný OLYMP 2064.0 + sedátko, barevný | D97: soubor | E97: 2 | G97: =E97*F97 -> 0 | O97: 2 | AA97: 12 | AB97: 0 | AC97: 56 | AZ97: 2 | BA97: =IF(AZ97=1,G97,0) -> 0 | BB97: =IF(AZ97=2,G97,0) -> 0 | BC97: =IF(AZ97=3,G97,0) -> 0 | BD97: =IF(AZ97=4,G97,0) -> 0 | BE97: =IF(AZ97=5,G97,0) -> 0 | CZ97: 0.01639
A98: 57 | B98: 725 01-7130.R00 | C98: Umyvadlo na šrouby OLYMP 1064.0, 50 cm, bílé | D98: soubor | E98: 2 | G98: =E98*F98 -> 0 | O98: 2 | AA98: 12 | AB98: 0 | AC98: 57 | AZ98: 2 | BA98: =IF(AZ98=1,G98,0) -> 0 | BB98: =IF(AZ98=2,G98,0) -> 0 | BC98: =IF(AZ98=3,G98,0) -> 0 | BD98: =IF(AZ98=4,G98,0) -> 0 | BE98: =IF(AZ98=5,G98,0) -> 0 | CZ98: 0.01001
A99: 58 | B99: 725 24-9101.R00 | C99: Montáž sprchových boxů | D99: soubor | E99: 2 | G99: =E99*F99 -> 0 | O99: 2 | AA99: 12 | AB99: 0 | AC99: 58 | AZ99: 2 | BA99: =IF(AZ99=1,G99,0) -> 0 | BB99: =IF(AZ99=2,G99,0) -> 0 | BC99: =IF(AZ99=3,G99,0) -> 0 | BD99: =IF(AZ99=4,G99,0) -> 0 | BE99: =IF(AZ99=5,G99,0) -> 0 | CZ99: 0.00045
A100: 59 | B100: 725 24-9102.R00 | C100: Montáž sprchových mís a vaniček | D100: soubor | E100: 2 | G100: =E100*F100 -> 0 | O100: 2 | AA100: 12 | AB100: 0 | AC100: 59 | AZ100: 2 | BA100: =IF(AZ100=1,G100,0) -> 0 | BB100: =IF(AZ100=2,G100,0) -> 0 | BC100: =IF(AZ100=3,G100,0) -> 0 | BD100: =IF(AZ100=4,G100,0) -> 0 | BE100: =IF(AZ100=5,G100,0) -> 0 | CZ100: 0.00062
A101: 60 | B101: 725 84-9302.R00 | C101: Montáž SPRCHOVÉ BATERIE | D101: kus | E101: 2 | G101: =E101*F101 -> 0 | O101: 2 | AA101: 12 | AB101: 0 | AC101: 60 | AZ101: 2 | BA101: =IF(AZ101=1,G101,0) -> 0 | BB101: =IF(AZ101=2,G101,0) -> 0 | BC101: =IF(AZ101=3,G101,0) -> 0 | BD101: =IF(AZ101=4,G101,0) -> 0 | BE101: =IF(AZ101=5,G101,0) -> 0 | CZ101: 2e-05
A102: 61 | B102: 7 | C102: montážní prvek geberit na zazdění | D102: ks | E102: 2 | G102: =E102*F102 -> 0 | O102: 2 | AA102: 12 | AB102: 0 | AC102: 61 | AZ102: 2 | BA102: =IF(AZ102=1,G102,0) -> 0 | BB102: =IF(AZ102=2,G102,0) -> 0 | BC102: =IF(AZ102=3,G102,0) -> 0 | BD102: =IF(AZ102=4,G102,0) -> 0 | BE102: =IF(AZ102=5,G102,0) -> 0 | CZ102: 0
...
